BEGIN:VCALENDAR
VERSION:2.0
CREATED:20260423T135751Z
PRODID:-//RenovoRX\, Inc./Equisolve Calendar v1.0//EN
METHOD:PUBLISH
BEGIN:VEVENT
UID:6c56c7fd5039c05b8eee821c24c4ca5a
DTSTAMP:20260424T113249Z
DTSTART:20260521T210000Z
DTEND:20260521T220000Z
SUMMARY:2026 ASCO Annual Meeting
DESCRIPTION:2026 ASCO Annual Meeting
Date: May 21\, 2026 5:00 pm EDT
END:VEVENT
END:VCALENDAR
